BEGIN:VCALENDAR
VERSION:2.0
PRODID:-//wp-events-plugin.com//7.2.3.1//EN
BEGIN:VEVENT
UID:1002@mnbeer.com
DTSTART:20150207T230000Z
DTEND:20150208T030000Z
DTSTAMP:20150103T053602Z
URL:https://www.mnbeer.com/events/new-belgium-sour-beer-program-event/
SUMMARY:New Belgium Sour Beer PRogram Event
DESCRIPTION:The Happy Gnome is proud to welcome New Belgium Brewing with a 
 one of a kind event here in Minnesota.  We will be celebrating their 2015 
 Sour Beer program.  There will be appetizers courtesy of Chef Scott Brink\
 , beer by New Belgium Brewing Company\, Live Music and special virtual gue
 st from New Belgium Brewing.\nNew Belgium will also be offering a very spe
 cial gift to all guests.\nFeatured beers will include: Transatlantique Kri
 ek\, La Folie\, a special One off Sour Selection exclusive to this event\,
  and Slow Ride IPA.\nTickets will get you admission\, beer\, food\, and of
  course a rocking good time! Tickets are limited.
CATEGORIES:Beer Release
LOCATION:The Happy Gnome\, 498 Selby Avenue\, Saint Paul\, Minnesota\, 5510
 4\, United States
GEO:44.946357;-93.12101710000002
X-APPLE-STRUCTURED-LOCATION;VALUE=URI;X-ADDRESS=498 Selby Avenue\, Saint Pa
 ul\, Minnesota\, 55104\, United States;X-APPLE-RADIUS=100;X-TITLE=The Happ
 y Gnome:geo:44.946357,-93.12101710000002
END:VEVENT
END:VCALENDAR