BEGIN:VCALENDAR
VERSION:2.0
PRODID:-//wp-events-plugin.com//7.2.3.1//EN
BEGIN:VEVENT
UID:3305@mnbeer.com
DTSTART:20181221T160000Z
DTEND:20181222T040000Z
DTSTAMP:20181217T181008Z
URL:https://www.mnbeer.com/events/night-block-winter-solstice-celebration/
SUMMARY:NIGHT BLOCK - WINTER SOLSTICE CELEBRATION
DESCRIPTION:Friday\, December 21 is the Winter Solstice - the longest night
  of the year. To celebrate\, Day Block Brewing Company offers up 6 Night B
 lock beers to get you through the Day &amp\; Night. Join us. We open at 11
 am!\n\nThe Line Up:\n\nBLACK ALE \nBARREL AGED RUSSIAN IMPERIAL STOUT\nCAN
 DY CANE PORTER\nIMPERIAL MILK STOUT\nMOCHA STOUT \nRASPBERRY STOUT\n\nFind
  more details at: https://www.dayblockbrewing.com/events/night-block-winte
 r-solstice-celebration
CATEGORIES:Bars/Restaurants,Beer Festival,Brewpubs
LOCATION:Day Block Brewing Company\, 1105 S Washington Ave\, Minneapolis\, 
 MN\, 55415\, United States
X-APPLE-STRUCTURED-LOCATION;VALUE=URI;X-ADDRESS=1105 S Washington Ave\, Min
 neapolis\, MN\, 55415\, United States;X-APPLE-RADIUS=100;X-TITLE=Day Block
  Brewing Company:geo:0,0
END:VEVENT
END:VCALENDAR