BEGIN:VCALENDAR
VERSION:2.0
PRODID:-//wp-events-plugin.com//7.2.3.1//EN
BEGIN:VEVENT
UID:1004@mnbeer.com
DTSTART:20150106T190000Z
DTEND:20150107T030000Z
DTSTAMP:20150103T053419Z
URL:https://www.mnbeer.com/events/no-firkin-way-tuesday-8/
SUMMARY:No Firkin Way Tuesday!
DESCRIPTION:The first firkin of the new year is coming to us from Surly Bre
 wing Company! We will be tapping Surly Cynic with citra hops at 2pm Tuesda
 y\, January 6th!\n\n At 5pm\, we will feature a one time only specialty pi
 zza that you won't want to miss!
CATEGORIES:Cask Beer
LOCATION:Black Sheep Pizza\, 512 N. Robert Street\, Saint Paul\, MN\, 55102
 \, United States
GEO:44.95142810000001;-93.094693
X-APPLE-STRUCTURED-LOCATION;VALUE=URI;X-ADDRESS=512 N. Robert Street\, Sain
 t Paul\, MN\, 55102\, United States;X-APPLE-RADIUS=100;X-TITLE=Black Sheep
  Pizza:geo:44.95142810000001,-93.094693
END:VEVENT
END:VCALENDAR