BEGIN:VCALENDAR
VERSION:2.0
PRODID:-//wp-events-plugin.com//7.2.3.1//EN
BEGIN:VEVENT
UID:1858@mnbeer.com
DTSTART:20160630T200000Z
DTEND:20160701T003000Z
DTSTAMP:20160617T193445Z
URL:https://www.mnbeer.com/events/northbound-happy-hour-brewery-bike-ride/
SUMMARY:Northbound Happy Hour Brewery Bike Ride
DESCRIPTION:Northbound Happy Hour Brewery Bike Ride 6/30 3pm\n\nFor our Jun
 e bike ride we'll be hitting a few places along the LRT Bike Trail to Dayb
 lock Brewing and West River Road Bike Trail over to Modist Brewing.  Since
  we will be attending breweries we will be requiring all riders to be 21+.
   Every rider will receive a free Northbound beer and we'll be raffling of
 f some items prior to the ride as well.\n\nThe Plan:\n2:30-3:30pm: Sign up
  for the bike ride at Northbound Brewpub\n3:30-3:45: Swag raffle and depar
 t for Dayblock\n5:00pm: Leave Dayblock and head for Modist\n6:30pm: Leave 
 Modist and return to Northbound Brewpub\n\nWhat to bring:\nHelmet\, bike l
 ights\, water\, ID\, snacks (food available for purchase)\n\nRAIN or SHINE
ATTACH;FMTTYPE=image/jpeg:https://www.mnbeer.com/wp-content/uploads/image0
 02.png
CATEGORIES:Breweries
LOCATION:Northbound Smokehouse Brewpub\, 2716 E 38th Street\, Minneapolis\,
  MN\, United States
X-APPLE-STRUCTURED-LOCATION;VALUE=URI;X-ADDRESS=2716 E 38th Street\, Minnea
 polis\, MN\, United States;X-APPLE-RADIUS=100;X-TITLE=Northbound Smokehous
 e Brewpub:geo:0,0
END:VEVENT
END:VCALENDAR