BEGIN:VCALENDAR
VERSION:2.0
PRODID:-//wp-events-plugin.com//7.2.3.1//EN
BEGIN:VEVENT
UID:1061@mnbeer.com
DTSTART:20150329T000000Z
DTEND:20150329T030000Z
DTSTAMP:20150114T182936Z
URL:https://www.mnbeer.com/events/northern-lights-rare-beer-fest-3/
SUMMARY:Northern Lights Rare Beer Fest
DESCRIPTION:A craft beer experience unlike any other!\n\nFeaturing rare\, v
 intage and one-off specialty beers from a carefully-curated list of craft 
 breweries\, the Northern Lights Rare Beer Fest is a one-of-a-kind event th
 at showcases the creativity and skill of a select group of top brewers in 
 the country.\n\nThis very special one-night tasting is for ticket holders 
 only and will take place on Saturday\, March 28th\, 2015 at the beautiful 
 MN History Center in downtown St Paul.\n\nThirty craft breweries\, includi
 ng ten from Minnesota\, were invited to participate - each brewery will of
 fer at least two beers\, one of which will be a rare offering\, which may 
 include:\n\n-a beer that is limited in availability.\n-a beer of 2012 or o
 lder vintage.\n-a beer that was brewed specifically for the fest.\n\nTicke
 ts available online or at either Four Firkins Location or The Ale Jail
ATTACH;FMTTYPE=image/jpeg:https://www.mnbeer.com/wp-content/uploads/NLRBF_
 100pxH1.png
CATEGORIES:Beer Festival
LOCATION:Minnesota History Center\, 345 Kellogg Boulevard West\, St. Paul\,
  MN\, 55102\, United States
GEO:44.9494068;-93.10488759999998
X-APPLE-STRUCTURED-LOCATION;VALUE=URI;X-ADDRESS=345 Kellogg Boulevard West\
 , St. Paul\, MN\, 55102\, United States;X-APPLE-RADIUS=100;X-TITLE=Minneso
 ta History Center:geo:44.9494068,-93.10488759999998
END:VEVENT
END:VCALENDAR