BEGIN:VCALENDAR
VERSION:2.0
PRODID:-//wp-events-plugin.com//7.2.3.1//EN
BEGIN:VEVENT
UID:3296@mnbeer.com
DTSTART:20190324T000000Z
DTEND:20190324T030000Z
DTSTAMP:20181204T054544Z
URL:https://www.mnbeer.com/events/northern-lights-rare-beer-festival/
SUMMARY:Northern Lights Rare Beer Festival
DESCRIPTION:Saturday\, March 23rd\, 2019 join us at the 6th Annual Northern
  Lights Rare Beer Fest at the beautiful MN History Center in downtown St P
 aul. This event features rare\, vintage and one-off specialty beers from a
  carefully-curated list of craft breweries\, the Northern Lights Rare Beer
  Fest is a one-of-a-kind event that showcases the creativity and skill of 
 a select group of top brewers in the country.
ATTACH;FMTTYPE=image/jpeg:https://www.mnbeer.com/wp-content/uploads/northe
 rn-lights.jpg
CATEGORIES:Festival
LOCATION:MINNESOTA HISTORY CENTER 345 W KELLOGG BLVD ST. PAUL MN 55102 USA\
 , 345 W KELLOGG BLVD\, St. Paul\, Minnesota\, 55102\, United States
GEO:44.9496752;-93.10514269999999
X-APPLE-STRUCTURED-LOCATION;VALUE=URI;X-ADDRESS=345 W KELLOGG BLVD\, St. Pa
 ul\, Minnesota\, 55102\, United States;X-APPLE-RADIUS=100;X-TITLE=MINNESOT
 A HISTORY CENTER 345 W KELLOGG BLVD ST. PAUL MN 55102 USA:geo:44.9496752,-
 93.10514269999999
END:VEVENT
END:VCALENDAR