BEGIN:VCALENDAR
VERSION:2.0
PRODID:-//wp-events-plugin.com//7.2.3.1//EN
BEGIN:VEVENT
UID:1082@mnbeer.com
DTSTART:20150225T003000Z
DTEND:20150225T033000Z
DTSTAMP:20150213T041218Z
URL:https://www.mnbeer.com/events/northgate-beer-dinner-at-the-craftsman-r
 estaurant/
SUMMARY:NorthGate Beer Dinner at The Craftsman Restaurant
DESCRIPTION:Join us for a delicious beer dinner featuring NorthGate Brewing
  &amp\; Craftsman Restaurant\n\nFour courses prepared by Chef Ryan Swaim\,
  paired with a selection of NorthGate beer\, presented by head brewer Tuck
  Carruthers.\n$60 per person (includes tax and gratuity) - You can pick up
  your tickets at: \n\nNorthGate Brewing \n783 Harding Street NE Mpls\n\nor
  The Craftsman Restaurant\n4300 East Lake Street Mpls\n\nSpace is limited!
LOCATION:The Craftsman Restaurant\, 4300 East Lake Street\, Minneapolis\, M
 N\, 55406\, United States
GEO:44.9485631;-93.21126759999999
X-APPLE-STRUCTURED-LOCATION;VALUE=URI;X-ADDRESS=4300 East Lake Street\, Min
 neapolis\, MN\, 55406\, United States;X-APPLE-RADIUS=100;X-TITLE=The Craft
 sman Restaurant:geo:44.9485631,-93.21126759999999
END:VEVENT
END:VCALENDAR