BEGIN:VCALENDAR
VERSION:2.0
PRODID:-//wp-events-plugin.com//7.2.3.1//EN
BEGIN:VEVENT
UID:747@mnbeer.com
DTSTART:20140813T233000Z
DTEND:20140814T020000Z
DTSTAMP:20140711T031159Z
URL:https://www.mnbeer.com/events/odell-brewing-beer-dinner/
SUMMARY:Odell Brewing Beer Dinner
DESCRIPTION:Come to McCoy's on Wednesday\, August 13th at 6:30 pm as we pre
 sent our latest beer dinner featuring Odell Brewing from Fort Collins\, Co
 lorado. $50 per person (including tax and gratuity)\, contact nickc@mccoys
 publichouse.com to make reservations. Credit card required at time of book
 ing.\n\nFood &amp\; Beer Menu\n\n90 Shilling Ale (5.3% abv\, 27 ibu)\nParm
 esan polenta cakes with Amablu blue cheese cream\, mushroom duxelles &amp\
 ; prosciutto chip\n\n5 Barrel Pale (5.2% abv\, 36 ibu)\nHazelnut crusted b
 rie with blackberry-bacon jam &amp\; balsamic reduction\n\nSt Lupulin (6.5
 % abv\, 46 ibu)\nMixed greens tossed in lemon-honey vinaigrette\, toasted 
 almonds\, poached apples &amp\; local goat cheese\n\nLugene Chocolate Milk
  Stout (8.5% abv)\nSlow braised chuck roast with sweet potato puree\, spag
 hetti squash\, roasted mushrooms &amp\; cranberry compote\n\nLoose Leaf (4
 .5% abv)\nPound cake with lemon curd &amp\; minted citrus salad\n
CATEGORIES:Beer Dinner
LOCATION:McCoy's Public House\, 3801 Grand Way\, St Louis Park\, MN\, 55416
 \, United States
GEO:44.9341802;-93.34019660000001
X-APPLE-STRUCTURED-LOCATION;VALUE=URI;X-ADDRESS=3801 Grand Way\, St Louis P
 ark\, MN\, 55416\, United States;X-APPLE-RADIUS=100;X-TITLE=McCoy's Public
  House:geo:44.9341802,-93.34019660000001
END:VEVENT
END:VCALENDAR