BEGIN:VCALENDAR
VERSION:2.0
PRODID:-//wp-events-plugin.com//7.2.3.1//EN
BEGIN:VEVENT
UID:768@mnbeer.com
DTSTART;VALUE=DATE:20140803
DTEND;VALUE=DATE:20140804
DTSTAMP:20140730T024553Z
URL:https://www.mnbeer.com/events/odell-brewing-company-total-tap-takeover
 /
SUMMARY:Odell Brewing Company Total Tap Takeover
DESCRIPTION:Join us for the largest Odell Brewing Tap Takeover in history!!
 ! \n\nWe're teaming up with one of Colorado's finest\, and turning over al
 l 30 taps to their fine ales (and 1 lager).\n\nCome party in the beer gard
 en from 3 to close\, and enjoy some of the coolest and most interesting be
 ers in the country. \n\nHere's the list!\n\nAmuste - Tempranillo barrel ag
 ed porter w/ Tempranillo grapes\nTree Shaker - Imperial peach IPA\nFriek -
  Oak aged sour w/ Cherries &amp\; Raspberries\nFlower Patch - Double pale 
 ale\nCherry Tree - Wheat Ale w/ cherries\nFOCO - New Belgium Colab APA\nSu
 per Union Chief - American Pale Ale\nPerle White - White IPA\nCelastrina -
  Saison\nWolfpicker - American Pale ale\nFootprint - Specialty grain stron
 g ale\nJaunt - Oak aged pale ale w/ Riesling grapes \nFernet Porter - Fern
 et barrel aged porter\nLevity - Amber ale\nEasy St Wheat - American wheat 
 ale\nDouble Pils - Imperial lager\nLugene Nitro - Chocolate milk stout\nLu
 gene (classic)\nDark Passenger - Sour dark ale\nTrellis - Double pale ale 
 w/ herbs &amp\; spices\n59'er - Golden ale aged on oak w/ Brett\n5 barrel 
 nitro - English style Pale ale\nLoose Leaf - American blonde ale\nDrAcula 
 - Barrel aged black ale\nWellspring - Dry hopped saison\nMyrcenary - Doubl
 e IPA\nSt Lupulin - American pale ale\nIPA - duh\n90 Shilling - Scottish a
 le\nRunoff - American red ale
CATEGORIES:Bars/Restaurants,Beer Release,Tasting
LOCATION:Butcher & The Boar\, 1121 Hennepin Ave\, Minneapolis MN\, MN\, 554
 03\, United States
GEO:44.974743;-93.279854
X-APPLE-STRUCTURED-LOCATION;VALUE=URI;X-ADDRESS=1121 Hennepin Ave\, Minneap
 olis MN\, MN\, 55403\, United States;X-APPLE-RADIUS=100;X-TITLE=Butcher & 
 The Boar:geo:44.974743,-93.279854
END:VEVENT
END:VCALENDAR