BEGIN:VCALENDAR
VERSION:2.0
PRODID:-//wp-events-plugin.com//7.2.3.1//EN
BEGIN:VEVENT
UID:3155@mnbeer.com
DTSTART:20180513T170000Z
DTEND:20180513T180000Z
DTSTAMP:20180502T135953Z
URL:https://www.mnbeer.com/events/off-flavors-in-beer-why-they-happen-how-
 to-avoid-them/
SUMMARY:Off Flavors in Beer: Why They Happen &amp\; How to Avoid Them
DESCRIPTION:Train your palette to detect the off-flavors in your beer. As b
 eloved as beer may be\, this beverage also has many opponents. Outside for
 ces like oxygen\, sunlight and time do their best to ruin your beer. But e
 ven the ingredients in your beer like malts\, hops\, water\, and yeast tha
 t make your beer delicious can spoil your beer. Learn how you can prevent 
 your beer from getting spoiled with eliminate these off-flavors. Our Brewm
 asters will teach you how to identify and control the flavors of your brew
 .\n\nInfo: http://nbrew.me/offfl57233\n
CATEGORIES:Homebrew
LOCATION:Midwest Supplies\, 5825 EXCELSIOR BLVD. \, ST LOUIS PARK\, MN\, 55
 414\, United States
GEO:44.9287528;-93.35441400000002
X-APPLE-STRUCTURED-LOCATION;VALUE=URI;X-ADDRESS=5825 EXCELSIOR BLVD. \, ST 
 LOUIS PARK\, MN\, 55414\, United States;X-APPLE-RADIUS=100;X-TITLE=Midwest
  Supplies:geo:44.9287528,-93.35441400000002
END:VEVENT
END:VCALENDAR