BEGIN:VCALENDAR
VERSION:2.0
PRODID:-//wp-events-plugin.com//7.2.3.1//EN
BEGIN:VEVENT
UID:830@mnbeer.com
DTSTART:20140927T220000Z
DTEND:20140928T070000Z
DTSTAMP:20140916T005054Z
URL:https://www.mnbeer.com/events/oktoberfest-2014/
SUMMARY:Oktoberfest 2014
DESCRIPTION:Our annual Oktoberfest celebration will be part of Oktoberfest 
 on Lyndale a community celebration. In addition to releasing our Oktoberfe
 st Bier\, served in traditional steins\, we will have our Baraboo Pumpkin 
 Spiced Ale on tap. We will be featuring specialty flavored brats\, hammers
 chlagen\, and music in our biergarten by the The Bavarian Boys Polka Band.
  No Cover/No Tickets Needed. \n\nA charity donation of nonperishable food 
 items and/or cash will be taken for The Joyce Uptown Food Shelf the day of
  the event
ATTACH;FMTTYPE=image/jpeg:https://www.mnbeer.com/wp-content/uploads/oktobe
 rfestherk3.jpg
CATEGORIES:Beer Festival
LOCATION:The Herkimer Pub &amp\; Brewery\, 2922 Lyndale Ave S.\, Minneapoli
 s\, Minnesota\, 55408\, United States
GEO:44.9491662;-93.28851270000001
X-APPLE-STRUCTURED-LOCATION;VALUE=URI;X-ADDRESS=2922 Lyndale Ave S.\, Minne
 apolis\, Minnesota\, 55408\, United States;X-APPLE-RADIUS=100;X-TITLE=The 
 Herkimer Pub & Brewery:geo:44.9491662,-93.28851270000001
END:VEVENT
END:VCALENDAR