BEGIN:VCALENDAR
VERSION:2.0
PRODID:-//wp-events-plugin.com//7.2.3.1//EN
BEGIN:VEVENT
UID:800@mnbeer.com
DTSTART:20141010T210000Z
DTEND:20141012T020000Z
DTSTAMP:20140903T050836Z
URL:https://www.mnbeer.com/events/oktoberfest-at-lake-superior-brewing-co-
 taproom/
SUMMARY:Oktoberfest at Lake Superior Brewing Co &amp\; Taproom
DESCRIPTION:OKTOBERFEST!\nCome celebrate Oktoberfest on location with Lake 
 Superior Brewing Co! Featuring our gold medal winning Oktoberfest brew! Be
 er\, food\, music and more! Friday and Saturday October 10 &amp\; 11 from 
 4-9pm! Follow us on Twitter or Facebook for up to the minute details. Chee
 rs!
ATTACH;FMTTYPE=image/jpeg:https://www.mnbeer.com/wp-content/uploads/LSB-Ok
 toberfest-Shirt-Logo2.png
CATEGORIES:Beer Festival
LOCATION:Lake Superior Brewing Co &amp\; Taproom\, 2711 W Superior Street\,
  Duluth\, MN\, 55806\, Lincoln Park\, United States
GEO:46.7606525;-92.13252729999999
X-APPLE-STRUCTURED-LOCATION;VALUE=URI;X-ADDRESS=2711 W Superior Street\, Du
 luth\, MN\, 55806\, Lincoln Park\, United States;X-APPLE-RADIUS=100;X-TITL
 E=Lake Superior Brewing Co & Taproom:geo:46.7606525,-92.13252729999999
END:VEVENT
END:VCALENDAR