BEGIN:VCALENDAR
VERSION:2.0
PRODID:-//wp-events-plugin.com//7.2.3.1//EN
BEGIN:VEVENT
UID:826@mnbeer.com
DTSTART:20140927T220000Z
DTEND:20140928T070000Z
DTSTAMP:20140909T041547Z
URL:https://www.mnbeer.com/events/oktoberfest-on-lyndale/
SUMMARY:Oktoberfest on Lyndale
DESCRIPTION:We will be celebrating Oktoberfest this year as a community on 
 Lyndale Avenue\, The Herkimer will be releasing our Baraboo Pumpkin Spiced
  Ale &amp\; Oktoberfest\, enjoying the music styling of the Bavarian Boys 
 Polka Band and playing Hammerschlagen. Our specialty brats will include gu
 mmy bear flavored and bloody mary\, The Lyndale Taphouse\, Morrissey’s a
 nd moto-i will be participating. All participating locations will be takin
 g non-perishable food or cash donations for Joyce Uptown Food Shelf.  www
 .facebook.com/oktoberfestlyndale
ATTACH;FMTTYPE=image/jpeg:https://www.mnbeer.com/wp-content/uploads/ofestl
 yndale.jpg
LOCATION:The Herkimer\, 2922 Lyndale Avenue South\, Minneapolis\, MN\, Unit
 ed States
GEO:44.9492314;-93.28828529999998
X-APPLE-STRUCTURED-LOCATION;VALUE=URI;X-ADDRESS=2922 Lyndale Avenue South\,
  Minneapolis\, MN\, United States;X-APPLE-RADIUS=100;X-TITLE=The Herkimer:
 geo:44.9492314,-93.28828529999998
END:VEVENT
END:VCALENDAR