BEGIN:VCALENDAR
VERSION:2.0
PRODID:-//wp-events-plugin.com//7.2.3.1//EN
BEGIN:VEVENT
UID:831@mnbeer.com
DTSTART:20140927T170000Z
DTEND:20140928T000000Z
DTSTAMP:20140916T005042Z
URL:https://www.mnbeer.com/events/oktoberfest-party-at-612brew/
SUMMARY:Oktoberfest Party at 612Brew
DESCRIPTION:The MN State Fair has come and gone\, the kids are back to scho
 ol and there is a chill in the evening air. Shorts and sweatshirts are a c
 ommon sight. Thirsty craft beer drinkers move away from the summer ales\, 
 slip on their fingerless drinking gloves and reach for something maltier\,
  with more body and with less hops. It’s Oktoberfest time.\nIt’s also 
 time to get your lederhosen and dirndl out of storage and celebrate Oktobe
 rfest with 612Brew on Saturday\, September 27 from 12-7pm. We invite you t
 o be a part of the second annual\, FREE celebration\, highlighted by the f
 ollowing:\n	•	Eight beers on tap featuring Oktoberfest\, Rated R\, SIX\,
  Gateway Park\, Zero Hour\, Shere Khan\, GLAM and Mary Ann\n	•	Live musi
 c in the outdoor amphitheater from Kingsview\, Center Coast\, Lee Rude\, P
 ennyroyal\, Mississippi Hot Club and the Federales\n	•	Food from Red Riv
 er Kitchen and Natedogs\n	•	Hammerschlagen Games\n	•	Special Edition 2
 0oz commemorative Oktoberfest beer steins\n	•	Prizes given away to the b
 est dressed in lederhosen and drindls\n	•	Free rides from Uber Twin Citi
 es\nFind the event on Facebook here: https://www.facebook.com/events/1466
 309623638491/\nProst! I’m Thirsty Already!
ATTACH;FMTTYPE=image/jpeg:https://www.mnbeer.com/wp-content/uploads/oktobe
 rfest-FINAL.jpg
CATEGORIES:Festival
LOCATION:612Brew\, 945 Broadway St NE\, Minneapolis\, MN\, 55413\, United S
 tates
GEO:44.999100;-93.246696
X-APPLE-STRUCTURED-LOCATION;VALUE=URI;X-ADDRESS=945 Broadway St NE\, Minnea
 polis\, MN\, 55413\, United States;X-APPLE-RADIUS=100;X-TITLE=612Brew:geo:
 44.999100,-93.246696
END:VEVENT
END:VCALENDAR