BEGIN:VCALENDAR
VERSION:2.0
PRODID:-//wp-events-plugin.com//7.2.3.1//EN
BEGIN:VEVENT
UID:1925@mnbeer.com
DTSTART:20160807T203000Z
DTEND:20160807T203000Z
DTSTAMP:20160804T045151Z
URL:https://www.mnbeer.com/events/olympic-rugby-watch-party-with-taps-from
 -northgate/
SUMMARY:Olympic Rugby Watch Party with Taps from NorthGate
DESCRIPTION:NorthGate Brewing will be providing $4 taps at Mason's Restaura
 nts &amp\; Barre to mark the kickoff of the Olympic Rugby matches on Sunda
 y\, August 7.\n\nhttps://www.facebook.com/events/311060389245665/
CATEGORIES:Misc.
LOCATION:Mason’s Restaurant | Barre\, 528 Hennepin Ave S.\, Minneapolis\,
  mn\, United States
GEO:44.9793208;-93.27329320000001
X-APPLE-STRUCTURED-LOCATION;VALUE=URI;X-ADDRESS=528 Hennepin Ave S.\, Minne
 apolis\, mn\, United States;X-APPLE-RADIUS=100;X-TITLE=Mason’s Restauran
 t | Barre:geo:44.9793208,-93.27329320000001
END:VEVENT
END:VCALENDAR