BEGIN:VCALENDAR
VERSION:2.0
PRODID:-//wp-events-plugin.com//7.2.3.1//EN
BEGIN:VEVENT
UID:739@mnbeer.com
DTSTART:20140809T190000Z
DTEND:20140809T230000Z
DTSTAMP:20140624T193229Z
URL:https://www.mnbeer.com/events/on-tap-mystic-lake-craft-beer-fest/
SUMMARY:On Tap @ Mystic Lake Craft Beer Fest
DESCRIPTION:ON TAP @ MYSTIC\nCraft Beer Fest\nSaturday\, August 9\n2 – 6 
 pm • $40\nOutdoor Event\nCALLING ALL BEER LOVERS!\n\nParty outside all a
 fternoon with live music\, food trucks\, and craft beers from more than tw
 o dozen local brewers! Admission includes a t-­shirt\, coupon book\, beer
  samples and a collectible glass.  Featuring performances by Pert Near San
 dstone and The Dan Band!
ATTACH;FMTTYPE=image/jpeg:https://www.mnbeer.com/wp-content/uploads/4936_O
 n-Tap_Carosel.jpg
CATEGORIES:Festival
LOCATION:Mystic Lake\, 2400 Mystic Lake Blvd\, Prior Lake\, MN\, 55372\, Un
 ited States
GEO:44.73064;-93.47283619999996
X-APPLE-STRUCTURED-LOCATION;VALUE=URI;X-ADDRESS=2400 Mystic Lake Blvd\, Pri
 or Lake\, MN\, 55372\, United States;X-APPLE-RADIUS=100;X-TITLE=Mystic Lak
 e:geo:44.73064,-93.47283619999996
END:VEVENT
END:VCALENDAR