BEGIN:VCALENDAR
VERSION:2.0
PRODID:-//wp-events-plugin.com//7.2.3.1//EN
BEGIN:VEVENT
UID:3171@mnbeer.com
DTSTART;VALUE=DATE:20180518
DTEND;VALUE=DATE:20180521
DTSTAMP:20180514T062300Z
URL:https://www.mnbeer.com/events/one-year-anniversary-weekend/
SUMMARY:One Year Anniversary Weekend!
DESCRIPTION:Stop by Broken Clock during Art-a-Whirl® weekend to celebrate 
 our brewery's first revolution around the sun. While you're there\, check 
 out how our future taproom is progressing and enjoy Broken Clock PINTS\, M
 N Art\, MN Music\, and MN Food Truck Food!\n\n\nThursday\, May 17:\nMember
 s Only Party and Special Release (special tickets required)\n\n\n\nFriday\
 , May 18:\nLittle G's Mobile Pizzeria and G.I. JOES FOOD TRUCK\n\nFeatured
  Music: M French\, Laura Lou\, The Twins of Franklin\, Grolar Bears\n\nFea
 tured Artists/Vendors: Uniquely Yours\, Custom Designed by Anita LLC\, Car
 ol's Candles\, Capital b Printing\, Lake Superior Beach Glass\, ShamelessI
 nc Mpls\, The Wildwood Theatre\, NanaMargiesCurio\, Broken Clock Member Ar
 tists\n\n\n\n\nSaturday\, May 19:\nG.I. JOES FOOD TRUCK\n\nMusic: Lineup c
 oming soon!\n\nFeatured Artists/Vendors: Uniquely Yours\, Custom Designed 
 by Anita LLC\, Carol's Candles\, Capital b Printing\, Lake Superior Beach 
 Glass\, ShamelessInc Mpls\, The Wildwood Theatre\, NanaMargiesCurio\, Brok
 en Clock Member Artists\n\n\n\nSunday\, May 20:\nLittle G's Mobile Pizzeri
 a and G.I. JOES FOOD TRUCK\n\nMusic: Lineup coming soon!\n\nFeatured Artis
 ts/Vendors: Tiny Footprint Coffee\, Uniquely Yours\, Custom Designed by An
 ita LLC\, Carol's Candles\, Capital b Printing\, Lake Superior Beach Glass
 \, NanaMargiesCurio\, Broken Clock Member Artists\n\n\nStay tuned for upda
 tes and additions!\n\n#abeerrevolution #oneyearanniversary #onerevolution 
 #artawhirl
ATTACH;FMTTYPE=image/jpeg:https://www.mnbeer.com/wp-content/uploads/313580
 03_2165613120339563_4750381060854906880_n.jpg
CATEGORIES:Art,Beer Release,Breweries,Festival,Music
LOCATION:Broken Clock Brewing Cooperative\, 3134 California St. NE\, Suite 
 122\, Minneapolis\, MN\, 55418\, United States
GEO:45.0255994;-93.27043229999998
X-APPLE-STRUCTURED-LOCATION;VALUE=URI;X-ADDRESS=3134 California St. NE\, Su
 ite 122\, Minneapolis\, MN\, 55418\, United States;X-APPLE-RADIUS=100;X-TI
 TLE=Broken Clock Brewing Cooperative:geo:45.0255994,-93.27043229999998
END:VEVENT
END:VCALENDAR