BEGIN:VCALENDAR
VERSION:2.0
PRODID:-//wp-events-plugin.com//7.2.3.1//EN
BEGIN:VEVENT
UID:1190@mnbeer.com
DTSTART:20150417T210000Z
DTEND:20150418T020000Z
DTSTAMP:20150410T035212Z
URL:https://www.mnbeer.com/events/oude-funk-release-party/
SUMMARY:Oude Funk Release Party
DESCRIPTION:Join Boom Island for the release of the first offering in its 
 “Spontaneous Series\,” Oude Funk. This beer is a blend of three\, two 
 and one year old vintages of spontaneously-fermented\, barrel-aged beer. I
 f you’re a fan of beer with dry\, sour and funky characteristics\, you m
 ight just want to get this on your calendar now.
ATTACH;FMTTYPE=image/jpeg:https://www.mnbeer.com/wp-content/uploads/2011/1
 2/boomMNb.gif
CATEGORIES:Breweries
LOCATION:Boom Island Brewing\, 2014 Washington Ave N\, Minneapolis\, MN\, 5
 5411\, North Minneapolis\, United States
GEO:44.999873;-93.28133400000002
X-APPLE-STRUCTURED-LOCATION;VALUE=URI;X-ADDRESS=2014 Washington Ave N\, Min
 neapolis\, MN\, 55411\, North Minneapolis\, United States;X-APPLE-RADIUS=1
 00;X-TITLE=Boom Island Brewing:geo:44.999873,-93.28133400000002
END:VEVENT
END:VCALENDAR