BEGIN:VCALENDAR
VERSION:2.0
PRODID:-//wp-events-plugin.com//7.2.3.1//EN
BEGIN:VEVENT
UID:3406@mnbeer.com
DTSTART:20190501T000000Z
DTEND:20190501T020000Z
DTSTAMP:20190122T172115Z
URL:https://www.mnbeer.com/events/paddling-film-festival-world-tour/
SUMMARY:Paddling Film Festival World Tour
DESCRIPTION:Join us at Beaver Island Brewing Co. to kick off our paddling s
 eason! Enjoy award-winning films. Win awesome prizes. Hang out with outdoo
 r enthusiasts. Your ticket includes: snacks\, beverage (beer/soda/water)\,
  a gift certificate to Clear Waters Outfitting\, a one-year digital subscr
 iption to Rapid Media paddling magazines\, the chance to win prizes\, and 
 one entry into the grand prize drawing. Tickets are limited and we've sold
  out in the past... don't miss the paddling event of the year!Watch the tr
 ailer! https://www.youtube.com/watch?v=_A76CxDSoTo&feature=youtu.be https:
 //www.facebook.com/events/376760073100635/
LOCATION:Beaver Island Brewing Company\, Beaver Island Brewing Company\, 
X-APPLE-STRUCTURED-LOCATION;VALUE=URI;X-ADDRESS=Beaver Island Brewing Compa
 ny\, ;X-APPLE-RADIUS=100;X-TITLE=Beaver Island Brewing Company:geo:0,0
END:VEVENT
END:VCALENDAR