BEGIN:VCALENDAR
VERSION:2.0
PRODID:-//wp-events-plugin.com//7.2.3.1//EN
BEGIN:VEVENT
UID:786@mnbeer.com
DTSTART:20140906T170000Z
DTEND:20140907T030000Z
DTSTAMP:20140804T185411Z
URL:https://www.mnbeer.com/events/pickin-grinnin-and-lift-bridge-brewerys-
 6th-anniversary-party/
SUMMARY:Pickin' &amp\; Grinnin' and Lift Bridge Brewery's 6th Anniversary P
 arty
DESCRIPTION:Join the Lift Bridge crew and pick some FRESH hops for this sea
 son’s fresh hop brew.\n\nPicking starts 12 p.m. and ends when all the ho
 ps are gone.\n\n**All ages welcome until 7pm**\n\nMusic\, food\, live brew
 ing\, special gifts\, &amp\; good times!\n\nGet tickets at https://www.eve
 ntbrite.com/e/pickin-grinnin-and-lift-bridge-brewerys-6th-anniversary-tick
 ets-12491818365
ATTACH;FMTTYPE=image/jpeg:https://www.mnbeer.com/wp-content/uploads/156127
 475.jpg
CATEGORIES:Beer Festival
LOCATION:Lift Bridge Brewing Co.\, 1900 Tower Drive W\, Stillwater\, MN\, 5
 5082\, United States
GEO:45.039177;-92.831797
X-APPLE-STRUCTURED-LOCATION;VALUE=URI;X-ADDRESS=1900 Tower Drive W\, Stillw
 ater\, MN\, 55082\, United States;X-APPLE-RADIUS=100;X-TITLE=Lift Bridge B
 rewing Co.:geo:45.039177,-92.831797
END:VEVENT
END:VCALENDAR