BEGIN:VCALENDAR
VERSION:2.0
PRODID:-//wp-events-plugin.com//7.2.3.1//EN
BEGIN:VEVENT
UID:3267@mnbeer.com
DTSTART:20180929T160000Z
DTEND:20180929T190000Z
DTSTAMP:20180910T180615Z
URL:https://www.mnbeer.com/events/pints-and-pooches/
SUMMARY:Pints and Pooches
DESCRIPTION:Second Hand Hounds will be at Northern Brewer’s Minneapolis r
 etail location with adoptable dogs for an afternoon of brew dogs and sunsh
 ine. We'll be raffling off a tapnfill keg system with all proceeds donated
  to second hand hounds. We'll also be holding a contest for best brew-dog 
 - submit photos in store or online\, and our two favorite photos will be f
 ramed and showcased at the Minneapolis store! We’ll also be awarding one
  online and one retail entrant a $10 gift card!\n\nEntries accepted at Nor
 thern Brewer retail\, on the Northern Brewer Minneapolis Facebook page\, o
 r at mplsmgr@northernbrewer.com\nEntries can be either digital or physical
  - we will return the physical copy after the competition ends. Please inc
 lude contact information - first/last name\, email\, phone number. Entrant
 s must pick up their own entries.\nWe will print and frame the winning ent
 ry\nSwag\, swag\, and more swag!\nWe’ll be handing out recipes for spent
  grain dog biscuits.\n\nClick here to register for this FREE event: https:
 //www.eventbrite.com/e/pints-and-pooches-tickets-48716355932
ATTACH;FMTTYPE=image/jpeg:https://www.mnbeer.com/wp-content/uploads/pints-
 and-pooches-2.png
CATEGORIES:Breweries
LOCATION:Northern Brewer\, 6021 Lyndale Avenue\, Minneapolis\, MN\, 55419\,
  United States
GEO:44.8936437;-93.28795580000002
X-APPLE-STRUCTURED-LOCATION;VALUE=URI;X-ADDRESS=6021 Lyndale Avenue\, Minne
 apolis\, MN\, 55419\, United States;X-APPLE-RADIUS=100;X-TITLE=Northern Br
 ewer:geo:44.8936437,-93.28795580000002
END:VEVENT
END:VCALENDAR