BEGIN:VCALENDAR
VERSION:2.0
PRODID:-//wp-events-plugin.com//7.2.3.1//EN
BEGIN:VEVENT
UID:833@mnbeer.com
DTSTART:20141003T000000Z
DTEND:20141003T030000Z
DTSTAMP:20140916T005112Z
URL:https://www.mnbeer.com/events/pints-plates/
SUMMARY:Pints &amp\; Plates
DESCRIPTION:PINTS &amp\; PLATES\nFundraiser for the Scott County Historical
  Society\nThursday\, October 2\, 2014 from 7-10 p.m.\n\n(SHAKOPEE\, MN 9/4
 /2014) — Get ready for an evening of great food\, great beer\, and great
  fun! The Scott County Historical Society is partnering with Turtle’s 18
 90 Social Center and Badger Hill Brewing for “Pints &amp\; Plates\,” a
  special dinner event in support of the Historical Society.\n\nWith your t
 icket\, you get a three-course plated meal prepared by Turtles\; craft bee
 r pairings with each course courtesy of Badger Hill Brewing\; and a compli
 mentary pint of your favorite select beer. A representative from Badger Hi
 ll Brewing will be on hand to explain the pairings as well as talk about t
 he new Badger Hill Brewery. The event also features a beer-and food-themed
  silent auction\, full cash bar\, and more!\n\nWhether you are a foodie\, 
 beer lover\, local history supporter\, or just like to have a good time\, 
 this is the event for you! Tickets to the event are $45 for SCHS members a
 nd $50 for non-members (must be 21+ to attend). To purchase your ticket(s)
 \, call us at 952.445.0378 or online at http://bit.ly/1pdrOQh  \n\nTurtle
 ’s 1890 Social Center is located at 112 South Lewis St\, Shakopee\, MN 5
 5379.  \nVisit us online at www.scottcountyhistory.org\, like us on Facebo
 ok https://www.facebook.com/ScottCountyHistoricalSociety\, and follow us o
 n Twitter https://twitter.com/ScottCountyHist \n
ATTACH;FMTTYPE=image/jpeg:https://www.mnbeer.com/wp-content/uploads/pintsa
 ndplates-little-header.jpg
CATEGORIES:Pairing
LOCATION:Turtles 1890 Social Center\, 112 S. Lewis Street\, Shakopee\, MN\,
  55379\, United States
GEO:44.79836;-93.52551799999998
X-APPLE-STRUCTURED-LOCATION;VALUE=URI;X-ADDRESS=112 S. Lewis Street\, Shako
 pee\, MN\, 55379\, United States;X-APPLE-RADIUS=100;X-TITLE=Turtles 1890 S
 ocial Center:geo:44.79836,-93.52551799999998
END:VEVENT
END:VCALENDAR