BEGIN:VCALENDAR
VERSION:2.0
PRODID:-//wp-events-plugin.com//7.2.3.1//EN
BEGIN:VEVENT
UID:3298@mnbeer.com
DTSTART:20181214T200000Z
DTEND:20181215T040000Z
DTSTAMP:20181204T054253Z
URL:https://www.mnbeer.com/events/polarnattens-paradis-2018-release-party/
SUMMARY:Polarnattens paradis 2018 Release Party
DESCRIPTION:Join us in the taproom for the 2018 release of Polarnattens par
 adis\, a winter stout infused with coffee and star anise. MoeDeLL will be 
 here performing live and Gess What's Cookin' LLC. will be on site serving 
 up delicious food truck goodness.\n\nPolarnattens paradis is Swedish for 
 “The polar night’s paradise”\, and was inspired by the starkly beaut
 iful polar regions of northern Scandinavia\, where during the winter month
 s the sun never rises above the horizon. This beer is densely dark and inc
 orporates several flavors associated with winter - light smokiness\, subtl
 e rye spiciness\, black licorice\, and\, of course\, coffee.\n\nEvent info
 :  https://www.facebook.com/events/2205174666200199/
ATTACH;FMTTYPE=image/jpeg:https://www.mnbeer.com/wp-content/uploads/polar-
 release-event.jpg
CATEGORIES:Beer Release
LOCATION:Lupulin Brewing\, 570 Humboldt  Drive\, Suite 107\, Big Lake \, MN
 \, 55309\, United States
GEO:45.3331421;-93.73350619999996
X-APPLE-STRUCTURED-LOCATION;VALUE=URI;X-ADDRESS=570 Humboldt  Drive\, Suite
  107\, Big Lake \, MN\, 55309\, United States;X-APPLE-RADIUS=100;X-TITLE=L
 upulin Brewing:geo:45.3331421,-93.73350619999996
END:VEVENT
END:VCALENDAR