BEGIN:VCALENDAR
VERSION:2.0
PRODID:-//wp-events-plugin.com//7.2.3.1//EN
BEGIN:VEVENT
UID:1899@mnbeer.com
DTSTART:20160910T200000Z
DTEND:20160910T230000Z
DTSTAMP:20160708T134120Z
URL:https://www.mnbeer.com/events/prairie-brewfest-2/
SUMMARY:Prairie Brewfest
DESCRIPTION:Craft beer meets philanthropy when the Eden Prairie Community F
 oundation holds its third annual Prairie Brewfest from 3-6 p.m. Saturday\,
  Sept. 10\, in Purgatory Creek Park\, 13001 Technology Drive in Eden Prair
 ie.\n\nSample craft beer from 13-plus brewers of craft beer and hard cider
  -- including Surly\, Bauhaus\, Big Wood\, Castle Danger\, LTD\, Enki\, Ex
 celsior\, Indeed\, Lake Monster\, and Lion Heart Cider -- and enjoy music 
 from Dave Lindahl and Wondercure. Food will be available from the New Bohe
 mian Food Truck.\n\nProceeds support the Foundation's work in Eden Prairie
 . Tickets are $30 in advance and $35 the day of the event. Get details and
  buy tickets on www.prariebrewfest.com. Or contact Mark Weber\, the Founda
 tion's executive director\, at mweber@epcommunityfoundation.org or 952-949
 -8499.
ATTACH;FMTTYPE=image/jpeg:https://www.mnbeer.com/wp-content/uploads/Jeff-W
 illiamson-crew_for-mnbeer.jpg
CATEGORIES:Tasting
LOCATION:Purgatory Creek Park\, 13001 Technology Drive\, Eden Prairie\, Min
 nesota\, 55344\, United States
GEO:44.8588532;-93.44130949999999
X-APPLE-STRUCTURED-LOCATION;VALUE=URI;X-ADDRESS=13001 Technology Drive\, Ed
 en Prairie\, Minnesota\, 55344\, United States;X-APPLE-RADIUS=100;X-TITLE=
 Purgatory Creek Park:geo:44.8588532,-93.44130949999999
END:VEVENT
END:VCALENDAR