BEGIN:VCALENDAR
VERSION:2.0
PRODID:-//wp-events-plugin.com//7.2.3.1//EN
BEGIN:VEVENT
UID:3260@mnbeer.com
DTSTART:20180831T220000Z
DTEND:20180901T010000Z
DTSTAMP:20180808T182640Z
URL:https://www.mnbeer.com/events/pride-in-brewing-paddle-it-forward-bent-
 paddle/
SUMMARY:PRIDE in Brewing Paddle it Forward @ Bent Paddle
DESCRIPTION:Join us in celebrating diversity within the brewing community b
 y attending one (or more!) of our partnering fundraisers being held to sup
 port the new PRIDE In Brewing Scholarship. Each of the events listed below
  will take place from 5-8 pm and $1 of every pint sold will go towards the
  scholarship.\n\n-Wednesday\, August 22nd Drink for a Cause @ 612Brew\n-Fr
 iday\, August 31st Paddle it Forward @ Bent Paddle\n-Tuesday\, September 4
 th PhilathroBrew @ Urban Growler\n-Thursday\, November 15th Pint for a Pur
 pose @ Tin Whiskers\n\nGray Duck Media\, parent company to The Beer Dabble
 r\, The Growler Magazine\, and Twin Cities Pride Magazine\, is proud to an
 nounce the formation of Pride in Brewing Scholarship Fund​. ​This fund
  exists to ensure a diverse and vibrant community for Minnesota craft beer
  for years to come.\n\n“One of my favorite things about craft beer is th
 e diversity of the stories and backgrounds of the individuals who have com
 e to be a part of this community\,” said Matt Kenevan\, owner of The Bee
 r Dabbler and publisher of The Growler. “There is no room for bigotry or
  ignorance in this industry\, so we want to do what we can to keep promoti
 ng a culture of inclusion in Minnesota’s craft beer scene.”\n\nThis sc
 holarship will cover the cost of tuition and fees for one student identify
 ing as LGBTQ+ enrolled in the Brewing &amp\; Beer Steward Technology progr
 am for 2019-2020. The 21-credit\, five-course\, two-semester program with 
 a required internship\, is intended to provide students with a solid under
 standing of brewing science\, engineering\, management and service. 
CATEGORIES:Breweries,Education,Misc.,Politics
LOCATION:Bent Paddle\, 1832 W. Michigan St.\, Duluth\, MN\, 55806\, United 
 States
GEO:46.76847249999999;-92.12067839999997
X-APPLE-STRUCTURED-LOCATION;VALUE=URI;X-ADDRESS=1832 W. Michigan St.\, Dulu
 th\, MN\, 55806\, United States;X-APPLE-RADIUS=100;X-TITLE=Bent Paddle:geo
 :46.76847249999999,-92.12067839999997
END:VEVENT
END:VCALENDAR