BEGIN:VCALENDAR
VERSION:2.0
PRODID:-//wp-events-plugin.com//7.2.3.1//EN
BEGIN:VEVENT
UID:3141@mnbeer.com
DTSTART:20180505T160000Z
DTEND:20180505T190000Z
DTSTAMP:20180425T140204Z
URL:https://www.mnbeer.com/events/pryes-brewing-beer-run/
SUMMARY:Pryes Brewing BEER RUN!
DESCRIPTION:We are the Minnesota Brewery Running Series and we run for beer
 !\n\nJoin us at Pryes Brewing on Saturday\, May 5th @ 11AM for a 5k-ish co
 urse that starts and ends at this beautifully located brewery on the banks
  of the Mississippi just north of downtown along West River Road! Weave th
 rough the surrounding area at whatever pace you like\, no matter what ther
 e’s a beer waiting for you at the finish line!\n\nWe are all about being
  active\, having fun and giving back to our local community. Since our ina
 ugural event in 2012\, we have been able to donate over $70\,000 back to l
 ocal non-profits. This event will add to that tally! +10% of all revenue g
 oes directly to local non-profits!\n\nWhat’s included?! All participants
  receive a FREE craft brew from the brewery and get to take home a collect
 ors pint glass or seasonal swag item from the Brewery Running Series...plu
 s swag\, goodies and giveaways from our partners and sponsors + chance to 
 win sweet door prizes and more free beer! Your registration also earns you
  an invitation to stick around and enjoy the day’s entertainment: live m
 usic\, food offerings\, local vendors\, and fun with our sponsors.\n\nRegi
 stration is limited\, so sign up today! https://www.eventsprout.com/event/
 pryes\n
ATTACH;FMTTYPE=image/jpeg:https://www.mnbeer.com/wp-content/uploads/121918
 37_912542098841881_6677965585015043568_n-1.png
CATEGORIES:Breweries
LOCATION:Pryes Brewing Company\, 1401 West River Road North\, Minneapolis\,
  MN\, 55411\, United States
GEO:44.99357939999999;-93.2764196
X-APPLE-STRUCTURED-LOCATION;VALUE=URI;X-ADDRESS=1401 West River Road North\
 , Minneapolis\, MN\, 55411\, United States;X-APPLE-RADIUS=100;X-TITLE=Prye
 s Brewing Company:geo:44.99357939999999,-93.2764196
END:VEVENT
END:VCALENDAR