BEGIN:VCALENDAR
VERSION:2.0
PRODID:-//wp-events-plugin.com//7.2.3.1//EN
BEGIN:VEVENT
UID:3414@mnbeer.com
DTSTART:20190123T150000Z
DTEND:20190123T220000Z
DTSTAMP:20190123T180616Z
URL:https://www.mnbeer.com/events/purposeful-pints-legacy-of-the-lakes-mus
 eum/
SUMMARY:Purposeful Pints | Legacy of the Lakes Museum
DESCRIPTION:Legacy of the Lakes Museum will be hosting this Purposeful Pint
  night! $1 of each beer sold during the night will be donated to the hosti
 ng non-profit! Come out to see what this organization is all about and how
  you can help give back to the Legacy of the Lakes Museum.https://www.face
 book.com/events/2464175283610124/
LOCATION:Copper Trail Brewing\, 410 30th Ave E #103\, Alexandria\, MN 56308
 \, USA\, Copper Trail Brewing\, 410 30th Ave E #103\, Alexandria\, MN 5630
 8\, USA\, 
X-APPLE-STRUCTURED-LOCATION;VALUE=URI;X-ADDRESS=Copper Trail Brewing\, 410 
 30th Ave E #103\, Alexandria\, MN 56308\, USA\, ;X-APPLE-RADIUS=100;X-TITL
 E=Copper Trail Brewing\, 410 30th Ave E #103\, Alexandria\, MN 56308\, USA
 :geo:0,0
END:VEVENT
END:VCALENDAR