BEGIN:VCALENDAR
VERSION:2.0
PRODID:-//wp-events-plugin.com//7.2.3.1//EN
BEGIN:VEVENT
UID:1886@mnbeer.com
DTSTART:20160827T160000Z
DTEND:20160827T230000Z
DTSTAMP:20160708T134129Z
URL:https://www.mnbeer.com/events/rails-ales-light-rail-brewery-crawl-2/
SUMMARY:Rails &amp\; Ales: Light Rail Brewery Crawl
DESCRIPTION:For the third year in a row\, GetKnit Events invites you to “
 hop” aboard Metro Transit’s Green Line Light Rail with hundreds of you
 r newest friends and ride the rails to twelve unique local breweries – a
 ll within walking distance of the many stops between Minneapolis and St. P
 aul!  Featured breweries include: Surly\, Modist\, Lake Monster\, Day Bloc
 k\, Urban Growler\, Great Waters\, Bang\, Town Hall\, Inbound\, Burning Br
 others\, Tin Whiskers\, and Fulton.\n\nAs you travel down the tracks\, you
  will be treated to special discounts on beer\, food\, and merchandise at 
 each brewery just for “crawlers”.  Throughout this self-guided Light R
 ail crawl\, you can order up pints of exclusive beers\, kick back to some 
 live music\, make some pit-stops at other local businesses along the route
 \, and of course – taste a wide variety of the finest brews in the Twin 
 Cities!\n\nYour Rails &amp\; Ales Ticket Includes:\n- 2 Pints of Craft Bee
 r\n- 2016 Rails &amp\; Ales T-Shirt\n- All-Access Metro Transit Light Rail
  Pass\n- Access to All 12 Local Breweries Along the Green Line Light Rail\
 n- Event Passport to Guide Your Route\n- Rails &amp\; Ales Exclusive Beers
  just for Participants\n- Special Discounts on Food\, Beer\, &amp\; Mercha
 ndise\n- Food Trucks\, Live Music\, and Other Fun Activities\n- Entry to W
 in Tons of Prizes &amp\; Giveaways\n- Discounted Room Rate at Sponsor Hote
 l(s)\n\nFor more information\, and to get your tickets\, visit: https://ge
 tknitevents.com/rails-ales/\n
ATTACH;FMTTYPE=image/jpeg:https://www.mnbeer.com/wp-content/uploads/Rails-
 and-Ales-2016_SQUARE-FULL-LOGO-JPG510.jpg
CATEGORIES:Bars/Restaurants,Breweries,Brewpubs,Cask
 Beer,Foodie,Misc.,Music,pub crawl,Tasting,Tours
END:VEVENT
END:VCALENDAR