BEGIN:VCALENDAR
VERSION:2.0
PRODID:-//wp-events-plugin.com//7.2.3.1//EN
BEGIN:VEVENT
UID:788@mnbeer.com
DTSTART:20140913T170000Z
DTEND:20140913T230000Z
DTSTAMP:20140806T035105Z
URL:https://www.mnbeer.com/events/rails-ales-light-rail-brewery-crawl/
SUMMARY:Rails &amp\; Ales: Light Rail Brewery Crawl
DESCRIPTION:“Hop” aboard Metro Transit’s brand new Green Line with hu
 ndreds of your newest friends and ride the rails to eight unique local bre
 weries within walking distance of the many stops between Minneapolis and S
 t. Paul.  Throughout your Light Rail “crawl”\, each brewery will offer
  special discounts on beer\, food\, and merchandise.  As you travel down t
 he tracks\, you can enjoy tours of select breweries\, kick-back to some li
 ve music\, order up pints of exclusive casks and firkins\, and taste a wid
 e variety of the finest brews in the Twin Cities!\n\nYour ticket includes:
 \n- 2 Pints of Craft Beer From Any Participating Brewery\n- Rails &amp\; A
 les T-Shirt\n- All-Day Light Rail Pass\n- Event Passport &amp\; Guide\n- S
 pecial Discounts on Food\, Beer\, &amp\; Merch\n- Access to Exclusive Firk
 ins\n- Live Music\n- Entry to Win Beer-Related Prizes\n\nFor more informat
 ion or to get your tickets\, visit https://getknitevents.com/public-events
 /rails-ales/.  \n
ATTACH;FMTTYPE=image/jpeg:https://www.mnbeer.com/wp-content/uploads/Rails-
 Ales-Ad.jpg
CATEGORIES:Beer Festival,Breweries,Brewpubs,Festival,Misc.,pub
 crawl,Tasting,Tours
END:VEVENT
END:VCALENDAR