BEGIN:VCALENDAR
VERSION:2.0
PRODID:-//wp-events-plugin.com//7.2.3.1//EN
BEGIN:VEVENT
UID:1865@mnbeer.com
DTSTART:20160716T210000Z
DTEND:20160717T010000Z
DTSTAMP:20160623T153256Z
URL:https://www.mnbeer.com/events/rare-beer-picnic/
SUMMARY:Rare Beer Picnic
DESCRIPTION:The Rare Beer Picnic is for the best of the best. A festival fo
 r sampling Aged\, Soured\, and Infused beers from local Breweries and Home
  Brewer’s in the area! Come thirsty and hungry! Breweries will supply sa
 mples and Usher’s House will be providing a delicious meal for you.\n\n\
 n\nTickets are available through Eventbrite\n\nEarly Bird Special – Get 
 your tickets before June 10th and you are automatically upgraded to VIP fo
 r early entry at 4:00pm\nAfter June 10th VIP tickets will change got $34 a
 nd general admission from 5-8pm will be $28.
ATTACH;FMTTYPE=image/jpeg:https://www.mnbeer.com/wp-content/uploads/RareBe
 erPicnicSquare.jpg
CATEGORIES:Beer Festival
LOCATION:WH Davy Park\, 1st Ave N &amp\; 8th St N\, Moorhead\, MN\, United 
 States
GEO:46.8760382;-96.76780910000002
X-APPLE-STRUCTURED-LOCATION;VALUE=URI;X-ADDRESS=1st Ave N & 8th St N\, Moor
 head\, MN\, United States;X-APPLE-RADIUS=100;X-TITLE=WH Davy Park:geo:46.8
 760382,-96.76780910000002
END:VEVENT
END:VCALENDAR