BEGIN:VCALENDAR
VERSION:2.0
PRODID:-//wp-events-plugin.com//7.2.3.1//EN
BEGIN:VEVENT
UID:765@mnbeer.com
DTSTART:20140723T210000Z
DTEND:20140724T060000Z
DTSTAMP:20140721T222133Z
URL:https://www.mnbeer.com/events/red-cow-st-paul-minneapolis-team-up-with
 -steel-toe-brewery/
SUMMARY:Red Cow St Paul &amp\; Minneapolis Team up with Steel Toe Brewery
DESCRIPTION:Red Cow St Paul and Red Cow Minneapolis are introducing Steel T
 oe Brewery to Regular Tap List. We are kicking off this relationship with 
 a BANG. Come check out the line up we've got going to Welcome Steel Toe to
  the Family!\n\nWednesday July 23rd - Taps at 4pm\n\nProvider- Golden/Blon
 de 5.0%- light\, refreshing\, slighty sweet and unfiltered to bring out fl
 avors.\n\nSommer Vice- Hefe-weizen. 5.0%- baked bread\, banana\, clove- tr
 aditional german Hefe\n\nRainmaker Red- Amber ale. 6.5% Carmel malts and r
 oasted malts\, then heavily hopped.\n\nSize 4 IPA- session IPA. 4.0%- Pine
 apple\, orange\, slight pine hop aromas and flavors. Cereal Malt backbone.
  One of the best session IPAs out there\n\nSize 7 IPA- American Northwest 
 style IPA- 7.0%. Hops\, Hops\, Hops.- I'll take the Pepsi challenge with a
 ny other IPA.\n\nDissent- Stout/Black Ale- 7.0%- Lots of roasted Malt. Oat
 s bring a smooth balance to the beer. Very Dark and very smooth.
ATTACH;FMTTYPE=image/jpeg:https://www.mnbeer.com/wp-content/uploads/Chux-S
 TB-Logo.jpg
CATEGORIES:Beer Release
LOCATION:Red Cow\, 3624 West 50th Street\, Minneapolis\, MN\, 55410\, Unite
 d States
GEO:44.912721;-93.32613200000003
X-APPLE-STRUCTURED-LOCATION;VALUE=URI;X-ADDRESS=3624 West 50th Street\, Min
 neapolis\, MN\, 55410\, United States;X-APPLE-RADIUS=100;X-TITLE=Red Cow:g
 eo:44.912721,-93.32613200000003
END:VEVENT
END:VCALENDAR