BEGIN:VCALENDAR
VERSION:2.0
PRODID:-//wp-events-plugin.com//7.2.3.1//EN
BEGIN:VEVENT
UID:3144@mnbeer.com
DTSTART:20180513T170000Z
DTEND:20180513T200000Z
DTSTAMP:20180425T140205Z
URL:https://www.mnbeer.com/events/root-beer-run-2nd-annual/
SUMMARY:Root Beer Run - 2nd Annual
DESCRIPTION:Join us at 1pm on Sunday\, May 13th for a very casual 0.5 MILE\
 , or\, 1 MILE kid-friendly (and Family approved!) Root Beer Run!!! Hosted 
 at one of the most beautiful Parks in Minneapolis: Boom Island Park! The e
 vent is coordinated in partnership with People for Parks\, and will includ
 e so much more than just a kid-friendly fun run: Free Root Beer\, Inflatab
 le Jump House\, Kids Arts &amp\; Crafts\, Photo-station\, and more!\n\n100
 % of all registration fees go directly to People for Parks! \n\nWhat's Inc
 luded?\n\nYour registration includes the fun-run\, swag/give-aways\, Free 
 Root Beer at the finish line\, and event festivities like arts &amp\; craf
 ts\, photo booth\, and inflatable jump house!\n\nThe Fun Run starts at 1pm
  from the main event area\, and weaves around the surrounding park!\n\nThi
 s event is open to the public\, but space is limited\, so make sure to reg
 ister! RUN FOR ROOT BEER\, support your community &amp\; local non-profits
 \, and have fun!\n\nCheers to you! https://www.eventsprout.com/event/rootb
 eer
ATTACH;FMTTYPE=image/jpeg:https://www.mnbeer.com/wp-content/uploads/121918
 37_912542098841881_6677965585015043568_n-4.png
CATEGORIES:Charity
LOCATION:Boom Island Park\, 724 Sibley St NE\, Minneapolis\, MN\, United St
 ates
GEO:44.99274339999999;-93.26925890000001
X-APPLE-STRUCTURED-LOCATION;VALUE=URI;X-ADDRESS=724 Sibley St NE\, Minneapo
 lis\, MN\, United States;X-APPLE-RADIUS=100;X-TITLE=Boom Island Park:geo:4
 4.99274339999999,-93.26925890000001
END:VEVENT
END:VCALENDAR