BEGIN:VCALENDAR
VERSION:2.0
PRODID:-//wp-events-plugin.com//7.2.3.1//EN
BEGIN:VEVENT
UID:736@mnbeer.com
DTSTART;VALUE=DATE:20140628
DTEND;VALUE=DATE:20140629
DTSTAMP:20140624T193200Z
URL:https://www.mnbeer.com/events/rudys-redeye-grill-5k-firkin-fest/
SUMMARY:Rudy's Redeye Grill 5K Firkin Fest
DESCRIPTION:Our event is called Rudy's Redeye Grill 5K Firkin Fest and proc
 eeds benefit Wishes and More Foundatuion.  There is a 5K starting in the p
 arking lot of Rudy's at 10am (no pre-registration needed)\, it will be fol
 lowed by a pig roast\, unlimited craft firkin beer tasting\, and live musi
 c from 11-4. Firkins from Surly\, Summit\, Liftbridge\, Schells\, Fulton\,
  Rush River\, and Bells.  At 4pm\, the tent opens up to everyone at no cha
 rge for live music.  Drinks and food will be available for purchase.\n\nTh
 e cost:\n\nThe run\, food\, and firkin beer- $60 (includes t-shirt\, door 
 prizes\, commemorative tasting cup\, &amp\; unlimited firkin beer)\n\nThe 
 food and beer only- $45 (includes t-shirt\, door prizes\, commemorative ta
 sting cup\, &amp\; unlimited firkin beer)\n\nThe run and food only - $25 (
 includes t-shirt\, door prizes)\n\nPlease contact me with any questions.  
 We really appreciate your time.\n\nThank you so much!\n\nNicole Sindelar\n
 Rudy's Redeye Catering\nCatering Director\n651 470 6274
ATTACH;FMTTYPE=image/jpeg:https://www.mnbeer.com/wp-content/uploads/Firkin
 -logo-vert.png
CATEGORIES:Beer Festival
LOCATION:Rudy's Redeye Grill\, 14845 S Robert Trail\, Rosemount \, MN\, 550
 68\, United States
GEO:44.733312;-93.12747940000003
X-APPLE-STRUCTURED-LOCATION;VALUE=URI;X-ADDRESS=14845 S Robert Trail\, Rose
 mount \, MN\, 55068\, United States;X-APPLE-RADIUS=100;X-TITLE=Rudy's Rede
 ye Grill:geo:44.733312,-93.12747940000003
END:VEVENT
END:VCALENDAR