BEGIN:VCALENDAR
VERSION:2.0
PRODID:-//wp-events-plugin.com//7.2.3.1//EN
BEGIN:VEVENT
UID:1893@mnbeer.com
DTSTART;VALUE=DATE:20160709
DTEND;VALUE=DATE:20160711
DTSTAMP:20160708T134015Z
URL:https://www.mnbeer.com/events/sam-adams-tap-takeover-at-old-chicago-4/
SUMMARY:Sam Adams Tap Takeover at Old Chicago
DESCRIPTION:Sam Adams is taking over 1\,400 taps 90+ Old Chicago restaurant
 s nationwide on July 9th for the “World’s Largest Tap Takeover” and 
 Old Chicago’s 40th anniversary\, including all locations in Minneapolis.
  The beers on tap will include fan favorites like Boston Lager\, Summer Al
 e\, Rebel Grapefruit IPA\, and Porch Rocker\, the coveted Longshot Homebre
 w Competition winning beers\, and specialty beers from the brewery includi
 ng Double Bock\, Rebel Rouser Double IPA and Grumpy Monk Belgian IPA. Invi
 te your friends and come raise a glass to Old Chicago's 40th Anniversary! 
 For more locations in and around Minneapolis\, please visit http://www.old
 chicago.com/locations 
ATTACH;FMTTYPE=image/jpeg:https://www.mnbeer.com/wp-content/uploads/OC_40t
 h-3.png
CATEGORIES:Bars/Restaurants,Breweries
LOCATION:Old Chicago Plymouth\, 3505 Vicksburg Ln N #100\, Plymouth\, Minne
 sota\, United States
GEO:45.02061630000001;-93.48352169999998
X-APPLE-STRUCTURED-LOCATION;VALUE=URI;X-ADDRESS=3505 Vicksburg Ln N #100\, 
 Plymouth\, Minnesota\, United States;X-APPLE-RADIUS=100;X-TITLE=Old Chicag
 o Plymouth:geo:45.02061630000001,-93.48352169999998
END:VEVENT
END:VCALENDAR