BEGIN:VCALENDAR
VERSION:2.0
PRODID:-//wp-events-plugin.com//7.2.3.1//EN
BEGIN:VEVENT
UID:3430@mnbeer.com
DTSTART:20190920T120000Z
DTEND:20190922T180000Z
DTSTAMP:20190123T185855Z
URL:https://www.mnbeer.com/events/save-the-date-oletoberfest-2019/
SUMMARY:Save the Date - Oletoberfest 2019!
DESCRIPTION:Save the Date for OLETOBERFEST 2019 on September 20th-22nd! The
 re will be food\, live music and of course some Oletoberfest beer! #Copper
 TrailBrewing\n\nhttps://www.facebook.com/events/317126468840196/
LOCATION:Copper Trail Brewing Company\, 410 30th Ave E\, #103\, Alexandria\
 , MN\, 56308\, United States
GEO:45.864373;-95.371585
X-APPLE-STRUCTURED-LOCATION;VALUE=URI;X-ADDRESS=410 30th Ave E\, #103\, Ale
 xandria\, MN\, 56308\, United States;X-APPLE-RADIUS=100;X-TITLE=Copper Tra
 il Brewing Company:geo:45.864373,-95.371585
END:VEVENT
END:VCALENDAR