BEGIN:VCALENDAR
VERSION:2.0
PRODID:-//wp-events-plugin.com//7.2.3.1//EN
BEGIN:VEVENT
UID:3390@mnbeer.com
DTSTART:20190302T170000Z
DTEND:20190302T223000Z
DTSTAMP:20190122T171953Z
URL:https://www.mnbeer.com/events/schells-bock-fest-2019/
SUMMARY:Schell's Bock Fest 2019
DESCRIPTION:**Tickets go on sale February 4th**While the beer doesn’t alw
 ays speed the arrival of Spring\, it will at least keep you warm. Come bec
 kon warmer weather with a mug full of Bock\, dancing and food. Seven Bocks
  of Winter are hiding around the brewery and in Flandrau State Park\, wait
 ing for brave fest-goers to venture out and capture them. Armed with compl
 etely useless clues and Bock beer\, hunters will comb the park in search o
 f these elusive bocks. Our two human St. Bernards\, with kegs of Bock beer
  strapped to their backs\, are ready to be dispatched at a moments notice 
 of the first signs of thirst. Oft-repeated tales depict their heroic explo
 its\, finding festers roaming the woods at wits end\, searching for anothe
 r glass of Schell’s Bock beer. Once they receive nourishment\, they find
  the strength to go forth and continue their search for the stealthy bocks
 . Legend has it if all Seven Bocks of Winter are captured and brought back
  to the brewery\, winter will release its icy grip on Minnesota\, and brin
 g an early spring. (This has never been scientifically proven and is widel
 y disputed among scholars to this day.)For those not hearty enough to leav
 e the Schell’s Brewery fest grounds\, feel no shame. Schell’s beer\, b
 rats\, live music and warm fire await you. Grab yourself a Schell’s Bock
  and brag to your friends of how you braved the Minnesota forest “last y
 ear” and found all seven bocks yourself. Your friends will be so impress
 ed with your exploits\, you probably won’t have to buy another beer the 
 entire time you’re here! Head over to the fire and have your beer “pok
 ed” by our fire tenders\, giving your Bock beer some nice caramel flavor
 s.And when the final bock has been wrangled\, the last Ring of Fire sung\,
  the last keg tapped and last mug hoisted\, its time to close the books on
  another Bock Fest…Unless you want to stick around and help with the cle
 anup! But the party doesn’t stop there. Fest-goers flock to downtown New
  Ulm for a fun-filled night of friendship. And when the night has run its 
 course and it’s time to call it quits\, we ask that you call for a ride 
 home! Be safe out there!LocationAugust Schell Brewing Company1860 Schell R
 oad\, New Ulm\, MN  56073Admission:Ticket cost $1021 plus event. ID’s re
 quiredTickets will also be available at the gate on the day of the event f
 or $10. Limit of 10 per purchaseLimited number of tickets will be sold in 
 advance.  Gift shop will open its doors at 10 a.m. on the day of advanced 
 ticket sales and will sell tickets as long as they are available. Online s
 ales will begin at 10 a.m. on February 4th and last as long as tickets are
  available. Can’t make it to the brewery to get your tickets? No problem
 \, we’re selling them online as well!Sorry\, no refunds on advanced tick
 ets Purchase your tickets here!Schedule:Saturday\, March 2\, 2019: 11:00am
 -4:30pm at the brewery10:30 – Gates open for advanced ticket holders onl
 y!11:00 – Gates open for cash purchase11:00 – The first keg is tapped 
 and the music begins4:30 – Gates closeWhat to Know Before You Attend:21 
 plus event. ID’s requiredNo pets are allowed on the fest grounds the day
  of Bock FestBackpacks will be searchedPlan on taking a bus to Bock Fest? 
 Check out this link to ensure your bus meets all inspection requirements f
 rom the Minnesota State Patrol Phone orders are not available at this time
 .It is illegal to drink on the streets of New Ulm so we ask that if you ar
 e coming early to get in line\, refrain from drinking on the streets. Fest
 -goers refusing to abide by this may be cited by local authorities.No outs
 ide food or beverages will be allowed inside the gatesLet’s have an awes
 ome time this year! Bock Fest is a great event where people come from all 
 over the United States (and even the world) to enjoy a joyous day out in t
 he Minnesota elements! Prost!https://www.facebook.com/events/2971475376536
 72/
LOCATION:August Schell Brewing Company\, August Schell Brewing Company\, 
X-APPLE-STRUCTURED-LOCATION;VALUE=URI;X-ADDRESS=August Schell Brewing Compa
 ny\, ;X-APPLE-RADIUS=100;X-TITLE=August Schell Brewing Company:geo:0,0
END:VEVENT
END:VCALENDAR