BEGIN:VCALENDAR
VERSION:2.0
PRODID:-//wp-events-plugin.com//7.2.3.1//EN
BEGIN:VEVENT
UID:3382@mnbeer.com
DTSTART:20190221T220000Z
DTEND:20190222T010000Z
DTSTAMP:20190122T171953Z
URL:https://www.mnbeer.com/events/schells-fire-poked-bock-event/
SUMMARY:Schell's Fire Poked Bock Event
DESCRIPTION:Featuring Schell's fire poked bock and other limited release be
 ers from Schell's! Reps will be here by one of our many fires ready to fir
 e poke your beer! Fire poking your beer caramelizes the malt and sugars to
  create a roasted caramel beer!We'll also have some great unique food spec
 ials to pair with your fire poked bock.https://www.facebook.com/events/115
 0336988461188/
LOCATION:Washington Square Bar & Grill\, Washington Square Bar & Grill\, 
X-APPLE-STRUCTURED-LOCATION;VALUE=URI;X-ADDRESS=Washington Square Bar & Gri
 ll\, ;X-APPLE-RADIUS=100;X-TITLE=Washington Square Bar & Grill:geo:0,0
END:VEVENT
END:VCALENDAR