BEGIN:VCALENDAR
VERSION:2.0
PRODID:-//wp-events-plugin.com//7.2.3.1//EN
BEGIN:VEVENT
UID:1934@mnbeer.com
DTSTART:20160918T050000Z
DTEND:20160918T050000Z
DTSTAMP:20160815T040422Z
URL:https://www.mnbeer.com/events/september-paint-and-brew/
SUMMARY:September Paint and Brew
DESCRIPTION:Join us as we paint Minnehaha Falls! Buy 4 or more tickets in o
 ne purchase\, and receive 15% off.\n\nYour ticket includes: \n- 1 flight o
 f TWB beer \n- 1 canvas for your creation \n- All tools and supplies \n- G
 uided painting course instructed by local artist\, Tom Moriarty - General 
 fun\, enjoyment and merriment!
CATEGORIES:Art
LOCATION:Tin Whiskers Brewing Company\, 125 East 9th Street\, Saint Paul\, 
 MN\, United States
GEO:44.9506615;-93.09361000000001
X-APPLE-STRUCTURED-LOCATION;VALUE=URI;X-ADDRESS=125 East 9th Street\, Saint
  Paul\, MN\, United States;X-APPLE-RADIUS=100;X-TITLE=Tin Whiskers Brewing
  Company:geo:44.9506615,-93.09361000000001
END:VEVENT
END:VCALENDAR