BEGIN:VCALENDAR
VERSION:2.0
PRODID:-//wp-events-plugin.com//7.2.3.1//EN
BEGIN:VEVENT
UID:1930@mnbeer.com
DTSTART:20160901T050000Z
DTEND:20160901T050000Z
DTSTAMP:20160815T040341Z
URL:https://www.mnbeer.com/events/settlers-of-catan-game-night-2/
SUMMARY:Settlers of Catan Game Night
DESCRIPTION:Join us in the Taproom for the ultimate Catan showdown. Please 
 bring your own Catan game (we will not have any available) and the winner 
 of each game get's a free beer! Come drink and be nerdy!
CATEGORIES:Misc.
LOCATION:Tin Whiskers Brewing Company\, 125 East 9th Street\, Saint Paul\, 
 MN\, United States
GEO:44.9506615;-93.09361000000001
X-APPLE-STRUCTURED-LOCATION;VALUE=URI;X-ADDRESS=125 East 9th Street\, Saint
  Paul\, MN\, United States;X-APPLE-RADIUS=100;X-TITLE=Tin Whiskers Brewing
  Company:geo:44.9506615,-93.09361000000001
END:VEVENT
END:VCALENDAR