BEGIN:VCALENDAR
VERSION:2.0
PRODID:-//wp-events-plugin.com//7.2.3.1//EN
BEGIN:VEVENT
UID:1897@mnbeer.com
DTSTART:20160804T050000Z
DTEND:20160804T050000Z
DTSTAMP:20160708T134056Z
URL:https://www.mnbeer.com/events/settlers-of-catan-game-night/
SUMMARY:Settlers of Catan Game Night
DESCRIPTION:
ATTACH;FMTTYPE=image/jpeg:https://www.mnbeer.com/wp-content/uploads/135090
 12_1090889697654667_5441998581978893593_n-1.jpg
CATEGORIES:Breweries
LOCATION:Tin Whiskers Brewing Company\, 125 East 9th Street\, Saint Paul\, 
 MN\, United States
GEO:44.9506615;-93.09361000000001
X-APPLE-STRUCTURED-LOCATION;VALUE=URI;X-ADDRESS=125 East 9th Street\, Saint
  Paul\, MN\, United States;X-APPLE-RADIUS=100;X-TITLE=Tin Whiskers Brewing
  Company:geo:44.9506615,-93.09361000000001
END:VEVENT
END:VCALENDAR