BEGIN:VCALENDAR
VERSION:2.0
PRODID:-//wp-events-plugin.com//7.2.3.1//EN
BEGIN:VEVENT
UID:778@mnbeer.com
DTSTART:20140805T220000Z
DTEND:20140806T020000Z
DTSTAMP:20140731T164015Z
URL:https://www.mnbeer.com/events/sierra-nevada-beer-camp-across-america-3
 /
SUMMARY:Sierra Nevada Beer Camp Across America
DESCRIPTION:Midwest Collaboration
CATEGORIES:Beer Release
LOCATION:Red Cow\, 393 Selby Ave\, St Paul\, United States
GEO:44.9467106;-93.11675579999996
X-APPLE-STRUCTURED-LOCATION;VALUE=URI;X-ADDRESS=393 Selby Ave\, St Paul\, U
 nited States;X-APPLE-RADIUS=100;X-TITLE=Red Cow:geo:44.9467106,-93.1167557
 9999996
END:VEVENT
END:VCALENDAR