BEGIN:VCALENDAR
VERSION:2.0
PRODID:-//wp-events-plugin.com//7.2.3.1//EN
BEGIN:VEVENT
UID:779@mnbeer.com
DTSTART:20140806T220000Z
DTEND:20140806T220000Z
DTSTAMP:20140731T164026Z
URL:https://www.mnbeer.com/events/sierra-nevada-beer-camp-across-america-4
 /
SUMMARY:Sierra Nevada Beer Camp Across America
DESCRIPTION:Midwest Collaboration
CATEGORIES:Beer Release
LOCATION:Buster's on 28th\, 4204 S 28th Ave\, Minneapolis\, United States
GEO:44.926167;-93.232147
X-APPLE-STRUCTURED-LOCATION;VALUE=URI;X-ADDRESS=4204 S 28th Ave\, Minneapol
 is\, United States;X-APPLE-RADIUS=100;X-TITLE=Buster's on 28th:geo:44.9261
 67,-93.232147
END:VEVENT
END:VCALENDAR