BEGIN:VCALENDAR
VERSION:2.0
PRODID:-//wp-events-plugin.com//7.2.3.1//EN
BEGIN:VEVENT
UID:780@mnbeer.com
DTSTART:20140808T220000Z
DTEND:20140809T020000Z
DTSTAMP:20140731T164039Z
URL:https://www.mnbeer.com/events/sierra-nevada-beer-camp-across-america-5
 /
SUMMARY:Sierra Nevada Beer Camp Across America
DESCRIPTION:Midwest Collaboration
CATEGORIES:Beer Release
LOCATION:Bulldog Downtown Mpls\, 1111 Hennepin Ave\, Minneapolis\, United S
 tates
GEO:44.974865;-93.2793762
X-APPLE-STRUCTURED-LOCATION;VALUE=URI;X-ADDRESS=1111 Hennepin Ave\, Minneap
 olis\, United States;X-APPLE-RADIUS=100;X-TITLE=Bulldog Downtown Mpls:geo:
 44.974865,-93.2793762
END:VEVENT
END:VCALENDAR