BEGIN:VCALENDAR
VERSION:2.0
PRODID:-//wp-events-plugin.com//7.2.3.1//EN
BEGIN:VEVENT
UID:781@mnbeer.com
DTSTART:20140810T000000Z
DTEND:20140810T030000Z
DTSTAMP:20140731T164054Z
URL:https://www.mnbeer.com/events/sierra-nevada-beer-camp-across-america-6
 /
SUMMARY:Sierra Nevada Beer Camp Across America
DESCRIPTION:Midwest Collaboration
CATEGORIES:Beer Release
LOCATION:Billy's on Grand\, 857 Grand Ave\, St Paul\, United States
GEO:44.94027200000001;-93.13595099999998
X-APPLE-STRUCTURED-LOCATION;VALUE=URI;X-ADDRESS=857 Grand Ave\, St Paul\, U
 nited States;X-APPLE-RADIUS=100;X-TITLE=Billy's on Grand:geo:44.9402720000
 0001,-93.13595099999998
END:VEVENT
END:VCALENDAR