BEGIN:VCALENDAR
VERSION:2.0
PRODID:-//wp-events-plugin.com//7.2.3.1//EN
BEGIN:VEVENT
UID:782@mnbeer.com
DTSTART:20140811T220000Z
DTEND:20140812T020000Z
DTSTAMP:20140731T164113Z
URL:https://www.mnbeer.com/events/sierra-nevada-beer-camp-across-america-7
 /
SUMMARY:Sierra Nevada Beer Camp Across America
DESCRIPTION:Midwest Collaboration
CATEGORIES:Beer Release
LOCATION:Bulldog Lowertown\, 237 E 6th St\, St Paul\, United States
GEO:44.9503065;-93.08766969999999
X-APPLE-STRUCTURED-LOCATION;VALUE=URI;X-ADDRESS=237 E 6th St\, St Paul\, Un
 ited States;X-APPLE-RADIUS=100;X-TITLE=Bulldog Lowertown:geo:44.9503065,-9
 3.08766969999999
END:VEVENT
END:VCALENDAR