BEGIN:VCALENDAR
VERSION:2.0
PRODID:-//wp-events-plugin.com//7.2.3.1//EN
BEGIN:VEVENT
UID:776@mnbeer.com
DTSTART:20140801T210000Z
DTEND:20140802T020000Z
DTSTAMP:20140731T163955Z
URL:https://www.mnbeer.com/events/sierra-nevada-beer-camp-across-america/
SUMMARY:Sierra Nevada Beer Camp Across America
DESCRIPTION:Midwest Collaboration on tap!
CATEGORIES:Beer Release
LOCATION:Mackenzie\, 918 Hennepin Ave\, Minneapolis\, United States
GEO:44.9763346;-93.27766489999999
X-APPLE-STRUCTURED-LOCATION;VALUE=URI;X-ADDRESS=918 Hennepin Ave\, Minneapo
 lis\, United States;X-APPLE-RADIUS=100;X-TITLE=Mackenzie:geo:44.9763346,-9
 3.27766489999999
END:VEVENT
END:VCALENDAR