BEGIN:VCALENDAR
VERSION:2.0
PRODID:-//wp-events-plugin.com//7.2.3.1//EN
BEGIN:VEVENT
UID:766@mnbeer.com
DTSTART:20140801T210000Z
DTEND:20140802T043000Z
DTSTAMP:20140723T215345Z
URL:https://www.mnbeer.com/events/sierra-nevadas-beer-camp-across-america/
SUMMARY:Sierra Nevada's Beer Camp Across America
DESCRIPTION:We will be participating in Sierra Nevada's Beer Camp Across Am
 erica! It is a line of collaboration beers that Sierra Nevada has come out
  with this summer. The first one we will be tapping is "There and Back" wh
 ich is an English Style Bitter and is a collaboration with New Glarus Brew
 ing out of Wisconsin. The second beer to be tapped is the "Chico King" whi
 ch is a Pale Ale and is a collaboration with 3 Floyds Brewing out of India
 na. We will also be tapping a Sierra Nevada seasonal\, the "Flipside" Red 
 IPA. 
ATTACH;FMTTYPE=image/jpeg:https://www.mnbeer.com/wp-content/uploads/small-
 beer-camp.jpeg
CATEGORIES:Beer Release
LOCATION:MacKenzie Pub\, 918 Hennepin Ave\, Minneapolis\, MN\, 55403\, Unit
 ed States
GEO:44.9763346;-93.27766489999999
X-APPLE-STRUCTURED-LOCATION;VALUE=URI;X-ADDRESS=918 Hennepin Ave\, Minneapo
 lis\, MN\, 55403\, United States;X-APPLE-RADIUS=100;X-TITLE=MacKenzie Pub:
 geo:44.9763346,-93.27766489999999
END:VEVENT
END:VCALENDAR