BEGIN:VCALENDAR
VERSION:2.0
PRODID:-//wp-events-plugin.com//7.2.3.1//EN
BEGIN:VEVENT
UID:1163@mnbeer.com
DTSTART:20150423T230000Z
DTEND:20150424T010000Z
DTSTAMP:20150326T064812Z
URL:https://www.mnbeer.com/events/sips-samples/
SUMMARY:Sips &amp\; Samples
DESCRIPTION:Join Wishes &amp\; More for an evening tasting event with a del
 icious variety of Beers\, Wines\, Whiskeys and Vodka along with Food Pairi
 ngs from the Lucky's 13 menu!\n\nCost: \n$40 in advance\n$50 at the door\n
 \nRSVP TODAY!\nOnline: wishesandmore.org\nPhone: 763-502-1500
CATEGORIES:Charity
LOCATION:Lucky's 13 Pub\, 3000 Harbor Lane N\, Plymouth\, Minnesota\, Unite
 d States
GEO:45.015057;-93.45895000000002
X-APPLE-STRUCTURED-LOCATION;VALUE=URI;X-ADDRESS=3000 Harbor Lane N\, Plymou
 th\, Minnesota\, United States;X-APPLE-RADIUS=100;X-TITLE=Lucky's 13 Pub:g
 eo:45.015057,-93.45895000000002
END:VEVENT
END:VCALENDAR