BEGIN:VCALENDAR
VERSION:2.0
PRODID:-//wp-events-plugin.com//7.2.3.1//EN
BEGIN:VEVENT
UID:3274@mnbeer.com
DTSTART:20181021T180000Z
DTEND:20181021T220000Z
DTSTAMP:20180924T210736Z
URL:https://www.mnbeer.com/events/slice-of-the-twin-cities/
SUMMARY:Slice of the Twin Cities
DESCRIPTION:Minnesota Monthly presents Slice of Twin Cities\, a family-frie
 ndly event filled with delicious samples of a wide range of pizzas\, seaso
 nal beers\, and wine. Not only do you get to experience amazing tastes but
  also live music and games. Relax and enjoy some of the best pizza in Minn
 esota. \n\nSlice of the Twin Cities 2018 will be taking place on Sunday\, 
 October 21st at the Earle Brown Heritage Center in Brooklyn Center from 1p
 m-5pm.\n\nTickets are available for $25 online for adults 21+ and $30 at t
 he door (Includes two pizza slices and two beverages). Tickets are availab
 le for $10 for those between the ages of 11-20 (Includes one pizza slice a
 nd one beverage) and free for kids 10 and under.\n
ATTACH;FMTTYPE=image/jpeg:https://www.mnbeer.com/wp-content/uploads/Slice1
 8_320x50.jpg
CATEGORIES:Bars/Restaurants
LOCATION:Earle Brown Heritage Center\, 6155 Earle Brown Drive\, Brooklyn Ce
 nter\, MN \, 55430\, United States
GEO:45.0669729;-93.30288189999999
X-APPLE-STRUCTURED-LOCATION;VALUE=URI;X-ADDRESS=6155 Earle Brown Drive\, Br
 ooklyn Center\, MN \, 55430\, United States;X-APPLE-RADIUS=100;X-TITLE=Ear
 le Brown Heritage Center:geo:45.0669729,-93.30288189999999
END:VEVENT
END:VCALENDAR