BEGIN:VCALENDAR
VERSION:2.0
PRODID:-//wp-events-plugin.com//7.2.3.1//EN
BEGIN:VEVENT
UID:1065@mnbeer.com
DTSTART:20150202T200000Z
DTEND:20150203T040000Z
DTSTAMP:20150128T221148Z
URL:https://www.mnbeer.com/events/snownami-release-2/
SUMMARY:Snownami Release
DESCRIPTION:We are excited to be releasing Snownami\, the third and final b
 eer in our SNOW series. This Double Chocolate Raspberry Stout ranks among 
 one of our customer's favorite beers. We add dark Belgian chocolate\, coco
 a nibs and raspberries to an 8.3% Stout to create the perfect beer for lov
 er's on Valentine's. We also won a Silver Medal at the 2014 World Beer Cup
  in the chocolate beer category for this beer. Because of the popularity o
 f this beer we are doubling the production size this year. We'll have 750m
 l growlers available in addition to it being available on tap.
ATTACH;FMTTYPE=image/jpeg:https://www.mnbeer.com/wp-content/uploads/Snowna
 mi-4x6-2-copy-beer-activist-site.jpg
CATEGORIES:Beer Release
LOCATION:Northbound Smokehouse &amp\; Brewpub\, 2716 East 38th Street\, Min
 neapolis\, MN\, 55406\, United States
GEO:44.9342863;-93.23246389999997
X-APPLE-STRUCTURED-LOCATION;VALUE=URI;X-ADDRESS=2716 East 38th Street\, Min
 neapolis\, MN\, 55406\, United States;X-APPLE-RADIUS=100;X-TITLE=Northboun
 d Smokehouse & Brewpub:geo:44.9342863,-93.23246389999997
END:VEVENT
END:VCALENDAR